Package: ProteoMM Version: 1.22.0 Command: chmod a+r ProteoMM -R && E:\biocbuild\bbs-3.19-bioc\R\bin\R.exe CMD build --keep-empty-dirs --no-resave-data ProteoMM StartedAt: 2024-10-16 21:14:51 -0400 (Wed, 16 Oct 2024) EndedAt: 2024-10-16 21:15:39 -0400 (Wed, 16 Oct 2024) EllapsedTime: 47.6 seconds RetCode: 0 Status: OK PackageFile: ProteoMM_1.22.0.tar.gz PackageFileSize: 212.9 KiB