Package: ProteoMM Version: 1.22.0 Command: rm -rf ProteoMM.buildbin-libdir && mkdir ProteoMM.buildbin-libdir && E:\biocbuild\bbs-3.19-bioc\R\bin\R.exe CMD INSTALL --build --library=ProteoMM.buildbin-libdir ProteoMM_1.22.0.tar.gz StartedAt: 2024-10-17 08:23:27 -0400 (Thu, 17 Oct 2024) EndedAt: 2024-10-17 08:23:42 -0400 (Thu, 17 Oct 2024) EllapsedTime: 14.9 seconds RetCode: 0 Status: OK PackageFile: ProteoMM_1.22.0.zip PackageFileSize: 333.1 KiB