Package: ProteoMM Version: 1.22.0 Command: F:\biocbuild\bbs-3.19-bioc\R\bin\R.exe CMD INSTALL ProteoMM StartedAt: 2024-06-26 16:06:47 -0400 (Wed, 26 Jun 2024) EndedAt: 2024-06-26 16:06:57 -0400 (Wed, 26 Jun 2024) EllapsedTime: 9.9 seconds RetCode: 0 Status: OK