Package: ProteoMM Version: 1.22.0 Command: chmod a+r ProteoMM -R && F:\biocbuild\bbs-3.19-bioc\R\bin\R.exe CMD build --keep-empty-dirs --no-resave-data ProteoMM StartedAt: 2024-06-26 21:07:23 -0400 (Wed, 26 Jun 2024) EndedAt: 2024-06-26 21:08:13 -0400 (Wed, 26 Jun 2024) EllapsedTime: 50.2 seconds RetCode: 0 Status: OK PackageFile: ProteoMM_1.22.0.tar.gz PackageFileSize: 212.9 KiB