Package: ProteoMM Version: 1.22.0 Command: rm -rf ProteoMM.buildbin-libdir && mkdir ProteoMM.buildbin-libdir && F:\biocbuild\bbs-3.19-bioc\R\bin\R.exe CMD INSTALL --build --library=ProteoMM.buildbin-libdir ProteoMM_1.22.0.tar.gz StartedAt: 2024-06-27 08:42:34 -0400 (Thu, 27 Jun 2024) EndedAt: 2024-06-27 08:42:48 -0400 (Thu, 27 Jun 2024) EllapsedTime: 14.4 seconds RetCode: 0 Status: OK PackageFile: ProteoMM_1.22.0.zip PackageFileSize: 332.7 KiB