Package: ProteoMM Version: 1.22.0 Command: /Library/Frameworks/R.framework/Resources/bin/R CMD INSTALL ProteoMM StartedAt: 2024-06-09 15:16:36 -0400 (Sun, 09 Jun 2024) EndedAt: 2024-06-09 15:16:45 -0400 (Sun, 09 Jun 2024) EllapsedTime: 9.1 seconds RetCode: 0 Status: OK