Package: ProteoMM Version: 1.22.0 Command: /Library/Frameworks/R.framework/Resources/bin/R CMD build --keep-empty-dirs --no-resave-data ProteoMM StartedAt: 2024-06-09 17:47:26 -0400 (Sun, 09 Jun 2024) EndedAt: 2024-06-09 17:48:03 -0400 (Sun, 09 Jun 2024) EllapsedTime: 37.2 seconds RetCode: 0 Status: OK PackageFile: ProteoMM_1.22.0.tar.gz PackageFileSize: 516 KiB