Package: ProteoMM Version: 1.22.0 Command: /Library/Frameworks/R.framework/Resources/bin/R CMD INSTALL ProteoMM StartedAt: 2024-06-09 16:08:25 -0400 (Sun, 09 Jun 2024) EndedAt: 2024-06-09 16:08:34 -0400 (Sun, 09 Jun 2024) EllapsedTime: 8.8 seconds RetCode: 0 Status: OK