Package: ProteoMM Version: 1.22.0 Command: /Library/Frameworks/R.framework/Resources/bin/R CMD check --install=check:ProteoMM.install-out.txt --library=/Library/Frameworks/R.framework/Resources/library --no-vignettes --timings ProteoMM_1.22.0.tar.gz StartedAt: 2024-06-11 01:53:40 -0400 (Tue, 11 Jun 2024) EndedAt: 2024-06-11 01:57:02 -0400 (Tue, 11 Jun 2024) EllapsedTime: 201.8 seconds RetCode: 0 Status: OK CheckDir: ProteoMM.Rcheck Warnings: 0