Package: ProteoMM Version: 1.22.0 Command: rm -rf ProteoMM.buildbin-libdir && mkdir ProteoMM.buildbin-libdir && /Users/biocbuild/BBS/utils/build-universal.sh ProteoMM_1.22.0.tar.gz /Library/Frameworks/R.framework/Resources/bin/R ProteoMM.buildbin-libdir StartedAt: 2024-06-11 12:36:50 -0400 (Tue, 11 Jun 2024) EndedAt: 2024-06-11 12:37:03 -0400 (Tue, 11 Jun 2024) EllapsedTime: 13.5 seconds RetCode: 0 Status: OK PackageFile: ProteoMM_1.22.0.tgz PackageFileSize: 629.8 KiB