Package: ProteoMM Version: 1.22.0 Command: rm -rf ProteoMM.buildbin-libdir && mkdir ProteoMM.buildbin-libdir && /Users/biocbuild/BBS/utils/build-universal.sh ProteoMM_1.22.0.tar.gz /Library/Frameworks/R.framework/Resources/bin/R ProteoMM.buildbin-libdir StartedAt: 2024-10-18 20:02:47 -0400 (Fri, 18 Oct 2024) EndedAt: 2024-10-18 20:02:56 -0400 (Fri, 18 Oct 2024) EllapsedTime: 9.0 seconds RetCode: 0 Status: OK PackageFile: ProteoMM_1.22.0.tgz PackageFileSize: 630.1 KiB