Package: ProteoDisco Version: 1.10.0 Command: rm -rf ProteoDisco.buildbin-libdir && mkdir ProteoDisco.buildbin-libdir && F:\biocbuild\bbs-3.19-bioc\R\bin\R.exe CMD INSTALL --build --library=ProteoDisco.buildbin-libdir ProteoDisco_1.10.0.tar.gz StartedAt: 2024-06-27 08:42:32 -0400 (Thu, 27 Jun 2024) EndedAt: 2024-06-27 08:43:44 -0400 (Thu, 27 Jun 2024) EllapsedTime: 71.9 seconds RetCode: 0 Status: OK PackageFile: ProteoDisco_1.10.0.zip PackageFileSize: 881 KiB