Package: ProteoDisco Version: 1.10.0 Command: /home/biocbuild/bbs-3.19-bioc/R/bin/R CMD build --keep-empty-dirs --no-resave-data ProteoDisco StartedAt: 2024-10-16 20:13:40 -0400 (Wed, 16 Oct 2024) EndedAt: 2024-10-16 20:16:09 -0400 (Wed, 16 Oct 2024) EllapsedTime: 149.3 seconds RetCode: 0 Status: OK PackageFile: ProteoDisco_1.10.0.tar.gz PackageFileSize: 499.9 KiB