Package: ProteoDisco Version: 1.10.0 Command: /Library/Frameworks/R.framework/Resources/bin/R CMD build --keep-empty-dirs --no-resave-data ProteoDisco StartedAt: 2024-10-16 22:15:21 -0400 (Wed, 16 Oct 2024) EndedAt: 2024-10-16 22:22:05 -0400 (Wed, 16 Oct 2024) EllapsedTime: 403.8 seconds RetCode: 0 Status: OK PackageFile: ProteoDisco_1.10.0.tar.gz PackageFileSize: 505.1 KiB