Package: ProteoDisco Version: 1.10.0 Command: /Library/Frameworks/R.framework/Resources/bin/R CMD check --install=check:ProteoDisco.install-out.txt --library=/Library/Frameworks/R.framework/Resources/library --no-vignettes --timings ProteoDisco_1.10.0.tar.gz StartedAt: 2024-10-18 08:07:00 -0400 (Fri, 18 Oct 2024) EndedAt: 2024-10-18 08:16:50 -0400 (Fri, 18 Oct 2024) EllapsedTime: 590.7 seconds RetCode: 0 Status: WARNINGS CheckDir: ProteoDisco.Rcheck Warnings: 2