Package: ProtGenerics Version: 1.36.0 Command: E:\biocbuild\bbs-3.19-bioc\R\bin\R.exe CMD INSTALL ProtGenerics StartedAt: 2024-10-16 16:03:24 -0400 (Wed, 16 Oct 2024) EndedAt: 2024-10-16 16:05:17 -0400 (Wed, 16 Oct 2024) EllapsedTime: 112.4 seconds RetCode: 0 Status: OK