Package: ProtGenerics Version: 1.36.0 Command: rm -rf ProtGenerics.buildbin-libdir && mkdir ProtGenerics.buildbin-libdir && E:\biocbuild\bbs-3.19-bioc\R\bin\R.exe CMD INSTALL --build --library=ProtGenerics.buildbin-libdir ProtGenerics_1.36.0.tar.gz StartedAt: 2024-10-17 08:23:31 -0400 (Thu, 17 Oct 2024) EndedAt: 2024-10-17 08:25:45 -0400 (Thu, 17 Oct 2024) EllapsedTime: 134.8 seconds RetCode: 0 Status: OK PackageFile: ProtGenerics_1.36.0.zip PackageFileSize: 238.1 KiB