Package: ProtGenerics Version: 1.36.0 Command: chmod a+r ProtGenerics -R && F:\biocbuild\bbs-3.19-bioc\R\bin\R.exe CMD build --keep-empty-dirs --no-resave-data ProtGenerics StartedAt: 2024-06-26 21:07:35 -0400 (Wed, 26 Jun 2024) EndedAt: 2024-06-26 21:07:37 -0400 (Wed, 26 Jun 2024) EllapsedTime: 2.0 seconds RetCode: 0 Status: OK PackageFile: ProtGenerics_1.36.0.tar.gz PackageFileSize: 9.939 KiB