Package: ProtGenerics Version: 1.36.0 Command: /Library/Frameworks/R.framework/Resources/bin/R CMD build --keep-empty-dirs --no-resave-data ProtGenerics StartedAt: 2024-10-16 22:15:29 -0400 (Wed, 16 Oct 2024) EndedAt: 2024-10-16 22:15:31 -0400 (Wed, 16 Oct 2024) EllapsedTime: 2.0 seconds RetCode: 0 Status: OK PackageFile: ProtGenerics_1.36.0.tar.gz PackageFileSize: 9.933 KiB