Package: ProtGenerics Version: 1.36.0 Command: /Library/Frameworks/R.framework/Resources/bin/R CMD check --install=check:ProtGenerics.install-out.txt --library=/Library/Frameworks/R.framework/Resources/library --no-vignettes --timings ProtGenerics_1.36.0.tar.gz StartedAt: 2024-06-09 22:21:15 -0400 (Sun, 09 Jun 2024) EndedAt: 2024-06-09 22:21:47 -0400 (Sun, 09 Jun 2024) EllapsedTime: 31.6 seconds RetCode: 0 Status: OK CheckDir: ProtGenerics.Rcheck Warnings: 0