Package: ProtGenerics Version: 1.36.0 Command: /home/biocbuild/R/R-beta-2024-04-15_r86425/bin/R CMD INSTALL ProtGenerics StartedAt: 2024-05-08 20:06:34 -0000 (Wed, 08 May 2024) EndedAt: 2024-05-08 20:07:12 -0000 (Wed, 08 May 2024) EllapsedTime: 38.7 seconds RetCode: 0 Status: OK