Package: ProtGenerics Version: 1.36.0 Command: /home/biocbuild/R/R-beta-2024-04-15_r86425/bin/R CMD check --install=check:ProtGenerics.install-out.txt --library=/home/biocbuild/R/R-beta-2024-04-15_r86425/site-library --no-vignettes --timings ProtGenerics_1.36.0.tar.gz StartedAt: 2024-05-09 10:45:59 -0000 (Thu, 09 May 2024) EndedAt: 2024-05-09 10:46:20 -0000 (Thu, 09 May 2024) EllapsedTime: 21.0 seconds RetCode: 0 Status: OK CheckDir: ProtGenerics.Rcheck Warnings: 0