Package: ProtGenerics Version: 1.36.0 Command: /home/biocbuild/R/R-beta-2024-04-15_r86425/bin/R CMD build --keep-empty-dirs --no-resave-data ProtGenerics StartedAt: 2024-05-09 02:39:32 -0000 (Thu, 09 May 2024) EndedAt: 2024-05-09 02:39:33 -0000 (Thu, 09 May 2024) EllapsedTime: 1.0 seconds RetCode: 0 Status: OK PackageFile: ProtGenerics_1.36.0.tar.gz PackageFileSize: 9.923 KiB