Package: PrInCE Version: 1.20.0 Command: E:\biocbuild\bbs-3.19-bioc\R\bin\R.exe CMD check --no-multiarch --install=check:PrInCE.install-out.txt --library=E:\biocbuild\bbs-3.19-bioc\R\library --no-vignettes --timings PrInCE_1.20.0.tar.gz StartedAt: 2024-10-17 04:36:30 -0400 (Thu, 17 Oct 2024) EndedAt: 2024-10-17 04:42:07 -0400 (Thu, 17 Oct 2024) EllapsedTime: 336.8 seconds RetCode: 0 Status: WARNINGS CheckDir: PrInCE.Rcheck Warnings: 1