Package: PrInCE Version: 1.20.0 Command: chmod a+r PrInCE -R && E:\biocbuild\bbs-3.19-bioc\R\bin\R.exe CMD build --keep-empty-dirs --no-resave-data PrInCE StartedAt: 2024-10-16 21:13:20 -0400 (Wed, 16 Oct 2024) EndedAt: 2024-10-16 21:16:29 -0400 (Wed, 16 Oct 2024) EllapsedTime: 189.7 seconds RetCode: 0 Status: OK PackageFile: PrInCE_1.20.0.tar.gz PackageFileSize: 1.799 MiB