Package: PrInCE Version: 1.20.0 Command: rm -rf PrInCE.buildbin-libdir && mkdir PrInCE.buildbin-libdir && /Users/biocbuild/BBS/utils/build-universal.sh PrInCE_1.20.0.tar.gz /Library/Frameworks/R.framework/Resources/bin/R PrInCE.buildbin-libdir StartedAt: 2024-10-17 16:52:05 -0400 (Thu, 17 Oct 2024) EndedAt: 2024-10-17 16:53:41 -0400 (Thu, 17 Oct 2024) EllapsedTime: 96.9 seconds RetCode: 0 Status: OK PackageFile: PrInCE_1.20.0.tgz PackageFileSize: 1.684 MiB