Package: PrInCE Version: 1.20.0 Command: /Library/Frameworks/R.framework/Resources/bin/R CMD check --install=check:PrInCE.install-out.txt --library=/Library/Frameworks/R.framework/Resources/library --no-vignettes --timings PrInCE_1.20.0.tar.gz StartedAt: 2024-06-09 22:18:37 -0400 (Sun, 09 Jun 2024) EndedAt: 2024-06-09 22:23:59 -0400 (Sun, 09 Jun 2024) EllapsedTime: 321.6 seconds RetCode: 0 Status: WARNINGS CheckDir: PrInCE.Rcheck Warnings: 1