Package: PrInCE Version: 1.20.0 Command: /Library/Frameworks/R.framework/Resources/bin/R CMD build --keep-empty-dirs --no-resave-data PrInCE StartedAt: 2024-10-17 06:40:55 -0400 (Thu, 17 Oct 2024) EndedAt: 2024-10-17 06:44:09 -0400 (Thu, 17 Oct 2024) EllapsedTime: 193.6 seconds RetCode: 0 Status: OK PackageFile: PrInCE_1.20.0.tar.gz PackageFileSize: 1.818 MiB