Package: PoDCall Version: 1.12.0 Command: /home/biocbuild/R/R-beta-2024-04-15_r86425/bin/R CMD build --keep-empty-dirs --no-resave-data PoDCall StartedAt: 2024-05-09 02:33:44 -0000 (Thu, 09 May 2024) EndedAt: 2024-05-09 02:34:11 -0000 (Thu, 09 May 2024) EllapsedTime: 27.0 seconds RetCode: 0 Status: OK PackageFile: PoDCall_1.12.0.tar.gz PackageFileSize: 2.285 MiB