Package: PloGO2 Version: 1.16.0 Command: /Library/Frameworks/R.framework/Resources/bin/R CMD build --keep-empty-dirs --no-resave-data PloGO2 StartedAt: 2024-06-09 17:44:43 -0400 (Sun, 09 Jun 2024) EndedAt: 2024-06-09 17:46:58 -0400 (Sun, 09 Jun 2024) EllapsedTime: 135.1 seconds RetCode: 0 Status: OK PackageFile: PloGO2_1.16.0.tar.gz PackageFileSize: 2.321 MiB