Package: PloGO2 Version: 1.16.0 Command: /Library/Frameworks/R.framework/Resources/bin/R CMD build --keep-empty-dirs --no-resave-data PloGO2 StartedAt: 2024-10-17 06:31:21 -0400 (Thu, 17 Oct 2024) EndedAt: 2024-10-17 06:34:14 -0400 (Thu, 17 Oct 2024) EllapsedTime: 173.4 seconds RetCode: 0 Status: OK PackageFile: PloGO2_1.16.0.tar.gz PackageFileSize: 2.321 MiB