Package: Pigengene Version: 1.30.0 Command: rm -rf Pigengene.buildbin-libdir && mkdir Pigengene.buildbin-libdir && E:\biocbuild\bbs-3.19-bioc\R\bin\R.exe CMD INSTALL --build --library=Pigengene.buildbin-libdir Pigengene_1.30.0.tar.gz StartedAt: 2024-10-17 08:21:15 -0400 (Thu, 17 Oct 2024) EndedAt: 2024-10-17 08:22:03 -0400 (Thu, 17 Oct 2024) EllapsedTime: 48.2 seconds RetCode: 0 Status: OK PackageFile: Pigengene_1.30.0.zip PackageFileSize: 2.977 MiB