Package: Pigengene Version: 1.30.0 Command: /home/biocbuild/bbs-3.19-bioc/R/bin/R CMD INSTALL Pigengene StartedAt: 2024-10-16 16:42:13 -0400 (Wed, 16 Oct 2024) EndedAt: 2024-10-16 16:42:40 -0400 (Wed, 16 Oct 2024) EllapsedTime: 26.9 seconds RetCode: 0 Status: OK