Package: Pigengene Version: 1.30.0 Command: /home/biocbuild/bbs-3.19-bioc/R/bin/R CMD check --install=check:Pigengene.install-out.txt --library=/home/biocbuild/bbs-3.19-bioc/R/site-library --timings Pigengene_1.30.0.tar.gz StartedAt: 2024-10-17 03:46:17 -0400 (Thu, 17 Oct 2024) EndedAt: 2024-10-17 03:59:03 -0400 (Thu, 17 Oct 2024) EllapsedTime: 765.7 seconds RetCode: 0 Status: OK CheckDir: Pigengene.Rcheck Warnings: 0