Package: Pigengene Version: 1.30.0 Command: /Library/Frameworks/R.framework/Resources/bin/R CMD INSTALL Pigengene StartedAt: 2024-06-09 15:40:01 -0400 (Sun, 09 Jun 2024) EndedAt: 2024-06-09 15:40:38 -0400 (Sun, 09 Jun 2024) EllapsedTime: 37.7 seconds RetCode: 0 Status: OK