Package: Pigengene Version: 1.30.0 Command: rm -rf Pigengene.buildbin-libdir && mkdir Pigengene.buildbin-libdir && /Users/biocbuild/BBS/utils/build-universal.sh Pigengene_1.30.0.tar.gz /Library/Frameworks/R.framework/Resources/bin/R Pigengene.buildbin-libdir StartedAt: 2024-05-27 01:52:39 -0400 (Mon, 27 May 2024) EndedAt: 2024-05-27 01:53:22 -0400 (Mon, 27 May 2024) EllapsedTime: 42.4 seconds RetCode: 0 Status: OK PackageFile: Pigengene_1.30.0.tgz PackageFileSize: 2.967 MiB