Package: Pigengene Version: 1.30.0 Command: /Library/Frameworks/R.framework/Resources/bin/R CMD INSTALL Pigengene StartedAt: 2024-10-16 18:41:16 -0400 (Wed, 16 Oct 2024) EndedAt: 2024-10-16 18:41:48 -0400 (Wed, 16 Oct 2024) EllapsedTime: 32.4 seconds RetCode: 0 Status: OK