Package: Pi Version: 2.16.0 Command: chmod a+r Pi -R && E:\biocbuild\bbs-3.19-bioc\R\bin\R.exe CMD build --keep-empty-dirs --no-resave-data Pi StartedAt: 2024-10-16 21:06:59 -0400 (Wed, 16 Oct 2024) EndedAt: 2024-10-16 21:07:07 -0400 (Wed, 16 Oct 2024) EllapsedTime: 8.1 seconds RetCode: 1 Status: ERROR PackageFile: None PackageFileSize: NA