Package: Pi Version: 2.15.0 Command: F:\biocbuild\bbs-3.19-bioc\R\bin\R.exe CMD check --no-multiarch --install=check:Pi.install-out.txt --library=F:\biocbuild\bbs-3.19-bioc\R\library --no-vignettes --timings Pi_2.15.0.tar.gz StartedAt: 2024-03-05 06:39:59 -0500 (Tue, 05 Mar 2024) EndedAt: 2024-03-05 06:43:34 -0500 (Tue, 05 Mar 2024) EllapsedTime: 214.8 seconds RetCode: 0 Status: WARNINGS CheckDir: Pi.Rcheck Warnings: 2