Package: Pi Version: 2.15.0 Command: rm -rf Pi.buildbin-libdir && mkdir Pi.buildbin-libdir && /Users/biocbuild/BBS/utils/build-universal.sh Pi_2.15.0.tar.gz /Library/Frameworks/R.framework/Resources/bin/R Pi.buildbin-libdir StartedAt: 2024-03-02 14:06:58 -0500 (Sat, 02 Mar 2024) EndedAt: 2024-03-02 14:08:22 -0500 (Sat, 02 Mar 2024) EllapsedTime: 84.1 seconds RetCode: 0 Status: OK PackageFile: Pi_2.15.0.tgz PackageFileSize: 3.079 MiB