Package: PhyloProfile Version: 1.18.0 Command: chmod a+r PhyloProfile -R && E:\biocbuild\bbs-3.19-bioc\R\bin\R.exe CMD build --keep-empty-dirs --no-resave-data PhyloProfile StartedAt: 2024-10-16 21:06:51 -0400 (Wed, 16 Oct 2024) EndedAt: 2024-10-16 21:08:09 -0400 (Wed, 16 Oct 2024) EllapsedTime: 77.8 seconds RetCode: 0 Status: OK PackageFile: PhyloProfile_1.18.0.tar.gz PackageFileSize: 1.153 MiB