Package: PhyloProfile Version: 1.18.0 Command: rm -rf PhyloProfile.buildbin-libdir && mkdir PhyloProfile.buildbin-libdir && E:\biocbuild\bbs-3.19-bioc\R\bin\R.exe CMD INSTALL --build --library=PhyloProfile.buildbin-libdir PhyloProfile_1.18.0.tar.gz StartedAt: 2024-10-17 08:20:57 -0400 (Thu, 17 Oct 2024) EndedAt: 2024-10-17 08:22:38 -0400 (Thu, 17 Oct 2024) EllapsedTime: 101.7 seconds RetCode: 0 Status: OK PackageFile: PhyloProfile_1.18.0.zip PackageFileSize: 1.195 MiB