Package: PhyloProfile Version: 1.18.0 Command: chmod a+r PhyloProfile -R && F:\biocbuild\bbs-3.19-bioc\R\bin\R.exe CMD build --keep-empty-dirs --no-resave-data PhyloProfile StartedAt: 2024-06-26 20:59:47 -0400 (Wed, 26 Jun 2024) EndedAt: 2024-06-26 21:00:39 -0400 (Wed, 26 Jun 2024) EllapsedTime: 52.2 seconds RetCode: 0 Status: OK PackageFile: PhyloProfile_1.18.0.tar.gz PackageFileSize: 1.153 MiB