Package: PhyloProfile Version: 1.18.0 Command: rm -rf PhyloProfile.buildbin-libdir && mkdir PhyloProfile.buildbin-libdir && F:\biocbuild\bbs-3.19-bioc\R\bin\R.exe CMD INSTALL --build --library=PhyloProfile.buildbin-libdir PhyloProfile_1.18.0.tar.gz StartedAt: 2024-06-27 08:40:28 -0400 (Thu, 27 Jun 2024) EndedAt: 2024-06-27 08:41:02 -0400 (Thu, 27 Jun 2024) EllapsedTime: 34.1 seconds RetCode: 0 Status: OK PackageFile: PhyloProfile_1.18.0.zip PackageFileSize: 1.194 MiB