Package: PhyloProfile Version: 1.18.0 Command: /home/biocbuild/bbs-3.19-bioc/R/bin/R CMD INSTALL PhyloProfile StartedAt: 2024-10-16 16:41:49 -0400 (Wed, 16 Oct 2024) EndedAt: 2024-10-16 16:42:07 -0400 (Wed, 16 Oct 2024) EllapsedTime: 18.3 seconds RetCode: 0 Status: OK