Package: PhyloProfile Version: 1.18.0 Command: rm -rf PhyloProfile.buildbin-libdir && mkdir PhyloProfile.buildbin-libdir && /Users/biocbuild/BBS/utils/build-universal.sh PhyloProfile_1.18.0.tar.gz /Library/Frameworks/R.framework/Resources/bin/R PhyloProfile.buildbin-libdir StartedAt: 2024-10-17 16:50:26 -0400 (Thu, 17 Oct 2024) EndedAt: 2024-10-17 16:51:21 -0400 (Thu, 17 Oct 2024) EllapsedTime: 55.6 seconds RetCode: 0 Status: OK PackageFile: PhyloProfile_1.18.0.tgz PackageFileSize: 1.369 MiB