Package: PhyloProfile Version: 1.18.0 Command: rm -rf PhyloProfile.buildbin-libdir && mkdir PhyloProfile.buildbin-libdir && /Users/biocbuild/BBS/utils/build-universal.sh PhyloProfile_1.18.0.tar.gz /Library/Frameworks/R.framework/Resources/bin/R PhyloProfile.buildbin-libdir StartedAt: 2024-06-10 00:32:08 -0400 (Mon, 10 Jun 2024) EndedAt: 2024-06-10 00:32:39 -0400 (Mon, 10 Jun 2024) EllapsedTime: 30.7 seconds RetCode: 0 Status: OK PackageFile: PhyloProfile_1.18.0.tgz PackageFileSize: 1.37 MiB