Package: PhyloProfile Version: 1.18.0 Command: /Library/Frameworks/R.framework/Resources/bin/R CMD check --install=check:PhyloProfile.install-out.txt --library=/Library/Frameworks/R.framework/Resources/library --no-vignettes --timings PhyloProfile_1.18.0.tar.gz StartedAt: 2024-10-18 07:28:25 -0400 (Fri, 18 Oct 2024) EndedAt: 2024-10-18 07:31:19 -0400 (Fri, 18 Oct 2024) EllapsedTime: 173.3 seconds RetCode: 0 Status: OK CheckDir: PhyloProfile.Rcheck Warnings: 0