Package: PhosR Version: 1.14.0 Command: E:\biocbuild\bbs-3.19-bioc\R\bin\R.exe CMD check --no-multiarch --install=check:PhosR.install-out.txt --library=E:\biocbuild\bbs-3.19-bioc\R\library --no-vignettes --timings PhosR_1.14.0.tar.gz StartedAt: 2024-10-17 04:27:29 -0400 (Thu, 17 Oct 2024) EndedAt: 2024-10-17 04:34:50 -0400 (Thu, 17 Oct 2024) EllapsedTime: 441.4 seconds RetCode: 0 Status: OK CheckDir: PhosR.Rcheck Warnings: 0