Package: PhosR Version: 1.14.0 Command: chmod a+r PhosR -R && E:\biocbuild\bbs-3.19-bioc\R\bin\R.exe CMD build --keep-empty-dirs --no-resave-data PhosR StartedAt: 2024-10-16 21:06:45 -0400 (Wed, 16 Oct 2024) EndedAt: 2024-10-16 21:11:49 -0400 (Wed, 16 Oct 2024) EllapsedTime: 304.7 seconds RetCode: 0 Status: OK PackageFile: PhosR_1.14.0.tar.gz PackageFileSize: 6.703 MiB